


BEGIN:VCALENDAR
VERSION:2.0
PRODID:-//eventon.com NONSGML v1.0//EN
CALSCALE:GREGORIAN
METHOD:PUBLISH
BEGIN:VEVENT
UID:69eacedf51048
DTSTAMP:20260424T020103Z
DTSTART:20250118T210000Z
DTEND:20250118T225900Z
LOCATION:
SUMMARY:Gula-Gula
DESCRIPTION:Con Mikaella Bitch\nhttps://mikaellabitch.com/events/gula-gula-
 7/
URL:https://mikaellabitch.com/events/gula-gula-7/
END:VEVENT
END:VCALENDAR